Workbook
Name capacity_max: assumptions!$E$73
Name cit_rate: assumptions!$E$276
Name discount_nominal: assumptions!$E$30
Name discount_real: assumptions!$E$29
Name g_oz: assumptions!$E$23
Name inflation: assumptions!$E$28
Name interest_nominal: assumptions!$E$281
Name interest_rate: assumptions!$E$280
Name is_smelter: assumptions!#REF!
Name lb_t: assumptions!$E$22
Name moist_cu: assumptions!$E$87
Name moist_mo: assumptions!$E$88
Name smelter_start: assumptions!$E$16
Name year_end: assumptions!$E$9
Name year_start: assumptions!$E$7
Name year_stop: assumptions!$E$10

Sheet about
A1: ABOUT

Sheet results
A1: ҮР ДҮН
A3: ЕРӨНХИЙ ҮР ДҮН
D5: ДАН УУРХАЙ | F5: ГЭРЭЭТ ХАЙЛУУЛАХ ҮЙЛДВЭР | H5: НЭГДМЭЛ ХАЙЛУУЛАХ ҮЙЛДВЭР
C6: ХУВЬСАГЧ | D6: ӨЦҮЦ | E6: НИЙТ | F6: ӨЦҮЦ | G6: НИЙТ | H6: ӨЦҮЦ | I6: НИЙТ
C7: Борлуулалтын орлого | D7: =NPV(discount_nominal,revenue!G176:BI176)+revenue!F176 -> 20665.909 | E7: =SUM(revenue!F176:BI176) -> 97337.416 | F7: =NPV(discount_nominal,financials!G259:BI259)+financials!F259 -> 597.36866 | G7: =SUM(financials!F259:BI259) -> 3412.4064 | H7: =NPV(discount_nominal,financials!G133:BI133)+financials!F133 -> 22234.888 | I7: =SUM(financials!F133:BI133) -> 107130.72
C8: Үйл ажиллагааны зардал (OPEX) | D8: =NPV(discount_nominal,opex!G85:BI85)+opex!F85 -> 10969.146 | E8: =SUM(opex!F85:BI85) -> 63165.109 | F8: =NPV(discount_nominal,financials!G265:BI265)+financials!F265 -> 1440.6527 | G8: =SUM(financials!F265:BI265) -> 8999.2048 | H8: =NPV(discount_nominal,financials!G140:BI140)+financials!F140 -> 12409.799 | I8: =SUM(financials!F140:BI140) -> 72164.314
C9: Хөрөнгө оруулалтын зардал (CAPEX) | D9: =NPV(discount_nominal,financials!G36:BI36)+financials!F36 -> 1785.2181 | E9: =SUM(financials!F36:BI36) -> 9692.2349 | F9: =NPV(discount_nominal,financials!G284:BI284)+financials!F284 -> 1164.477 | G9: =SUM(financials!F284:BI284) -> 2373.7817 | H9: =NPV(discount_nominal,financials!G163:BI163)+financials!F163 -> 2949.6951 | I9: =SUM(financials!F163:BI163) -> 12066.017
C10: Цэвэр мөнгөн урсгал | D10: =NPV(discount_nominal,financials!G64:BI64)+financials!F64 -> 152.26237 | E10: =SUM(financials!F64:BI64) -> -10.855254 | F10: =NPV(discount_nominal,financials!G312:BI312)+financials!F312 -> 8.8601016 | G10: =SUM(financials!F312:BI312) -> 0 | H10: =NPV(discount_nominal,financials!G191:BI191)+financials!F191 -> 106.70436 | I10: =SUM(financials!F191:BI191) -> -10.855254
C11: Татварын өмнөх мөнгөн урсгал | D11: =NPV(discount_nominal,financials!F39:BI39) -> 7248.9869 | E11: =financials!E39 -> 24480.073 | F11: =NPV(discount_nominal,financials!F287:BI287) -> -1839.6197 | G11: =financials!E287 -> -7960.5801 | H11: =NPV(discount_nominal,financials!F166:BI166) -> 6299.6097 | I11: =financials!E166 -> 22900.388
C12: Татварын дараах мөнгөн урсгал | D12: =NPV(discount_nominal,financials!F40:BI40) -> 2159.0986 | E12: =financials!E40 -> 803.67017 | F12: =NPV(discount_nominal,financials!F288:BI288) -> -1839.6197 | G12: =financials!E288 -> -7960.5801 | H12: =NPV(discount_nominal,financials!F167:BI167) -> 2554.1173 | I12: =financials!E167 -> 7743.6284
C13: Хувьцаанд ногдох мөнгөн урсгал | D13: =financials!F84+NPV(discount_nominal,financials!G84:BI84) -> 4056.7948 | E13: =financials!E84 -> 3824.5366 | F13: =financials!F332+NPV(discount_nominal,financials!G332:BI332) -> -2108.9907 | G13: =financials!E332 -> -8300.5195 | H13: =financials!F211+NPV(discount_nominal,financials!G211:BI211) -> 2591.6107 | I13: =financials!E211 -> 7063.3148
C14: Санхүүжилтийн өмнөх мөнгөн урсгал | D14: =NPV(discount_nominal,financials!G41:BI41)+financials!F41 -> 4285.4417 | E14: =SUM(financials!F41:BI41) -> 3927.9675 | F14: =NPV(discount_nominal,financials!G289:BI289)+financials!F289 -> -2100.1306 | G14: =SUM(financials!F289:BI289) -> -8300.5195 | H14: =NPV(discount_nominal,financials!G168:BI168)+financials!F168 -> 2753.1349 | I14: =I8+I9+I10 -> 84219.475
A17: ТӨСВИЙН ОРЛОГО
D19: ДАН УУРХАЙ | F19: ГЭРЭЭТ ХАЙЛУУЛАХ ҮЙЛДВЭР | H19: НЭГДМЭЛ ХАЙЛУУЛАХ ҮЙЛДВЭР
C20: ХУВЬСАГЧ | D20: ӨЦҮЦ | E20: НИЙТ | F20: ӨЦҮЦ | G20: НИЙТ | H20: ӨЦҮЦ | I20: НИЙТ
C21: Үндсэн роялти | D21: =NPV(discount_nominal,financials!G13:BI13)+financials!F13 -> 1234.7454 | E21: =SUM(financials!F13:BI13) -> 5807.8157 | F21: 0 | G21: 0 | H21: =NPV(discount_nominal,financials!G142:BI142)+financials!F142 -> 1185.6743 | I21: =SUM(financials!F142:BI142) -> 5524.2442
C22: Нэмэлт роялти | D22: =NPV(discount_nominal,financials!G14:BI14)+financials!F14 -> 3344.4051 | E22: =SUM(financials!F14:BI14) -> 15720.427 | F22: 0 | G22: 0 | H22: =NPV(discount_nominal,financials!G143:BI143)+financials!F143 -> 1648.9076 | I22: =SUM(financials!F143:BI143) -> 5920.7501
C23: Нийт роялти | D23: =D21+D22 -> 4579.1505 | E23: =E21+E22 -> 21528.243 | F23: =F21+F22 -> 0 | G23: =G21+G22 -> 0 | H23: =H21+H22 -> 2834.5819 | I23: =I21+I22 -> 11444.994
C24: Орлогын албан татвар | D24: =NPV(discount_nominal,financials!G25:BI25)+financials!F25 -> 975.95357 | E24: =SUM(financials!F25:BI25) -> 2148.1598 | F24: =NPV(discount_nominal,financials!G273:BI273)+financials!F273 -> 0 | G24: =SUM(financials!F273:BI273) -> 0 | H24: =NPV(discount_nominal,financials!G152:BI152)+financials!F152 -> 1253.2485 | I24: =SUM(financials!F152:BI152) -> 3711.7649
C25: Ногдол ашиг | D25: =NPV(discount_nominal,financials!G62:BI62)+financials!F62 -> 4274.6119 | E25: =SUM(financials!F62:BI62) -> 9439.1514 | F25: 0 | G25: 0 | H25: =NPV(discount_nominal,financials!G189:BI189)+financials!F189 -> 2647.6736 | I25: =SUM(financials!F189:BI189) -> 8916.9879
C26: НИЙТ ОРЛОГО | D26: =D23+D24+D25 -> 9829.716 | E26: =E23+E24+E25 -> 33115.554 | F26: 0 | G26: 0 | H26: =H23+H24+H25 -> 6735.504 | I26: =I23+I24+I25 -> 24073.747
A28: ЗАГВАРЫН ШАЛГАЛТ
D30: ДАН УУРХАЙ | F30: ГЭРЭЭТ ХАЙЛУУЛАХ ҮЙЛДВЭР | H30: НЭГДМЭЛ ХАЙЛУУЛАХ ҮЙЛДВЭР
C31: Баланс тэнцэж байна уу? | E31: =financials!E121=0 -> TRUE | G31: =ISNUMBER(financials!E369) -> TRUE | I31: =financials!E248=0 -> TRUE
C32: Эцэст нь зээлийн үлдэгдэл тэг болсон уу? | E32: =INDEX(financials!F48:BI48,MATCH(year_stop,financials!F2:BI2,0))=0 -> TRUE | G32: =INDEX(financials!F296:BI296,MATCH(year_stop,financials!F2:BI2,0))=0 -> TRUE | I32: =INDEX(financials!F175:BI175,MATCH(year_stop,financials!F2:BI2,0))=0 -> TRUE
C33: Мөнгөн хөрөнгө эерэг байна уу? | E33: =financials!E71=0 -> TRUE | G33: =financials!E319=0 -> TRUE | I33: =financials!E198=0 -> TRUE
C34: Эцэст нь мөнгөн хөрөнгийн үлдэгдэл тэг болсон уу? | E34: =INDEX(financials!F70:BI70,MATCH(year_stop,financials!F2:BI2,0))=0 -> TRUE | G34: =INDEX(financials!F318:BI318,MATCH(year_stop,financials!F2:BI2,0))=0 -> TRUE | I34: =INDEX(financials!F197:BI197,MATCH(year_stop,financials!F2:BI2,0))<0.00001 -> TRUE

Sheet assumptions
A1: ТААМАГЛАЛУУД
A3: хувьсагчид | D3: нэгж | E3: base value | F3: scenario1 | G3: scenario 2 | I3: source
A5: цаг хугацаа
B6: олборлолт
C7: төслийн эхлэх жил | D7: он | E7: 2025
C8: үргэлжлэх хугацаа | D8: жил | E8: 56
C9: тооцооны төгсгөл | D9: он | E9: =E7+E8-1 -> 2080
C10: нөөц дуусах жил | D10: он | E10: =_xlfn.XLOOKUP(0,production!F18:BI18,production!F2:BI2) -> 2065 | I10: the year when reserves deplete to 0
B12: хайлуулах үйлдвэр
C13: эхлэл | D13: он | E13: 2026
C14: барилгын хугацаа | D14: жил | E14: 3
C15: барилгын ажил дуусах | D15: он | E15: =E13+E14 -> 2029
C16: хайлуулах үйлдвэр ашиглалтад орох | D16: он | E16: =E15 -> 2029
B18: хүхрийн хүчлийн зах зээлд борлуулах хувь | D18: хувь | E18: 0.3 | I18: assumption that you can cell a percentage of the acid produced ; initial 30%
A21: хөрвүүлэлт
C22: нэг хуурай метр тонн дахь фунт | D22: фунт/тонн | E22: 2204.62
C23: нэг трой унц дахь грамм | D23: г/унц | E23: 31.103477
A25: олборлолт
A27: эдийн засаг
C28: ам.долларын инфляц | D28: хувь | E28: 0.02 | I28: initial 2%
C29: хорогдуулах бодит хувь | D29: хувь | E29: 0.07 | I29: initial 7%
C30: хорогдуулах нэрлэсэн хувь | D30: хувь | E30: =(1+discount_real)*(1+inflation)-1 -> 0.0914
B32: үнэ
C33: зэс | D33: ам.доллар/фунт | E33: 5 | I33: 5
C34: зэс | D34: ам.доллар/тонн | E34: =E33*E22 -> 11023.1
C35: Cu-ийн үнийн бодит өөрчлөлт | D35: хувь/жилд | E35: 0.005 | I35: 0.005
C36: молибден | D36: ам.доллар/фунт | E36: 25 | I36: 25
C37: молибден | D37: ам.доллар/тонн | E37: =E36*E22 -> 55115.5
C38: Mo-ийн үнийн бодит өөрчлөлт | D38: жилд ногдох харьцаа | E38: 0.005 | I38: 0.005
C39: алт | D39: ам.доллар/унц | E39: 3000
C40: мөнгө | D40: ам.доллар/унц | E40: 35
C41: боловсруулах төлбөр | D41: ам.доллар/тонн | E41: 50 | I41: 50
C42: боловсруулах төлбөрийн бодит өөрчлөлт | D42: жилд ногдох харьцаа | E42: 0 | I42: 0.005
C43: Cu цэвэршүүлэлтийн төлбөр | D43: ам.цент/фунт | E43: =E41/10 -> 5 | I43: 5
C44: Cu цэвэршүүлэлтийн төлбөрийн бодит өөрчлөлт | D44: жилд ногдох харьцаа | E44: =E42 -> 0 | I44: 0.005
C45: Мо боловсруулалтын төлбөр | D45: ам.доллар/фунт | E45: 2 | I45: for moly net back pricing, 2
C46: Мо боловсруулалтын бодит өөрчлөлт | D46: жилд ногдох харьцаа | E46: 0 | I46: 0.005
C47: Au цэвэршүүлэлт | D47: ам.доллар/унц | E47: 8
C48: Ag цэвэршүүлэлт | D48: ам.доллар/унц | E48: 0.5
C49: хүхрийн хүчил | D49: ам.доллар/тонн | E49: 80 | I49: 80
...

Sheet production
A1: ҮЙЛДВЭРЛЭЛ
E2: year_calendar--> | F2: =IF(year_start+(COLUMN()-COLUMN($F$2))<=year_end,year_start+(COLUMN()-COLUMN($F$2)),"") -> 2025 | G2: =IF(year_start+(COLUMN()-COLUMN($F$2))<=year_end,year_start+(COLUMN()-COLUMN($F$2)),"") -> 2026 | H2: =IF(year_start+(COLUMN()-COLUMN($F$2))<=year_end,year_start+(COLUMN()-COLUMN($F$2)),"") -> 2027 | I2: =IF(year_start+(COLUMN()-COLUMN($F$2))<=year_end,year_start+(COLUMN()-COLUMN($F$2)),"") -> 2028 | J2: =IF(year_start+(COLUMN()-COLUMN($F$2))<=year_end,year_start+(COLUMN()-COLUMN($F$2)),"") -> 2029 | K2: =IF(year_start+(COLUMN()-COLUMN($F$2))<=year_end,year_start+(COLUMN()-COLUMN($F$2)),"") -> 2030 | L2: =IF(year_start+(COLUMN()-COLUMN($F$2))<=year_end,year_start+(COLUMN()-COLUMN($F$2)),"") -> 2031 | M2: =IF(year_start+(COLUMN()-COLUMN($F$2))<=year_end,year_start+(COLUMN()-COLUMN($F$2)),"") -> 2032 | ... BW2: =IF(year_start+(COLUMN()-COLUMN($F$2))<=year_end,year_start+(COLUMN()-COLUMN($F$2)),"")
E3: year_start--> | F3: =IF(year_start+(COLUMN()-COLUMN($F$2))<=year_end,F2-year_start,"") -> 0 | G3: =IF(year_start+(COLUMN()-COLUMN($F$2))<=year_end,G2-year_start,"") -> 1 | H3: =IF(year_start+(COLUMN()-COLUMN($F$2))<=year_end,H2-year_start,"") -> 2 | I3: =IF(year_start+(COLUMN()-COLUMN($F$2))<=year_end,I2-year_start,"") -> 3 | J3: =IF(year_start+(COLUMN()-COLUMN($F$2))<=year_end,J2-year_start,"") -> 4 | K3: =IF(year_start+(COLUMN()-COLUMN($F$2))<=year_end,K2-year_start,"") -> 5 | L3: =IF(year_start+(COLUMN()-COLUMN($F$2))<=year_end,L2-year_start,"") -> 6 | M3: =IF(year_start+(COLUMN()-COLUMN($F$2))<=year_end,M2-year_start,"") -> 7 | ... BW3: =IF(year_start+(COLUMN()-COLUMN($F$2))<=year_end,BW2-year_start,"")
E4: year_end--> | F4: =IF(year_start+(COLUMN()-COLUMN($F$2))<=year_end,F3+1,"") -> 1 | G4: =IF(year_start+(COLUMN()-COLUMN($F$2))<=year_end,G3+1,"") -> 2 | H4: =IF(year_start+(COLUMN()-COLUMN($F$2))<=year_end,H3+1,"") -> 3 | I4: =IF(year_start+(COLUMN()-COLUMN($F$2))<=year_end,I3+1,"") -> 4 | J4: =IF(year_start+(COLUMN()-COLUMN($F$2))<=year_end,J3+1,"") -> 5 | K4: =IF(year_start+(COLUMN()-COLUMN($F$2))<=year_end,K3+1,"") -> 6 | L4: =IF(year_start+(COLUMN()-COLUMN($F$2))<=year_end,L3+1,"") -> 7 | M4: =IF(year_start+(COLUMN()-COLUMN($F$2))<=year_end,M3+1,"") -> 8 | ... BW4: =IF(year_start+(COLUMN()-COLUMN($F$2))<=year_end,BW3+1,"")
A5: хувьсагч | D5: нэгж | E5: total/average
A6: ИЛ УУРХАЙ
B7: олборлолт
C8: хөрс хуулалтын харьцаа | D8: харьцаа | E8: =AVERAGE(F8:AI8) -> 1.2394317 | F8: =IF(F16<=0,0,IF(F2<=year_end,assumptions!$E$62*(1+assumptions!$E$63)^F4,0)) -> 0.99052364 | G8: =IF(G16<=0,0,IF(G2<=year_end,assumptions!$E$62*(1+assumptions!$E$63)^G4,0)) -> 1.0053815 | H8: =IF(H16<=0,0,IF(H2<=year_end,assumptions!$E$62*(1+assumptions!$E$63)^H4,0)) -> 1.0204622 | I8: =IF(I16<=0,0,IF(I2<=year_end,assumptions!$E$62*(1+assumptions!$E$63)^I4,0)) -> 1.0357692 | J8: =IF(J16<=0,0,IF(J2<=year_end,assumptions!$E$62*(1+assumptions!$E$63)^J4,0)) -> 1.0513057 | K8: =IF(K16<=0,0,IF(K2<=year_end,assumptions!$E$62*(1+assumptions!$E$63)^K4,0)) -> 1.0670753 | L8: =IF(L16<=0,0,IF(L2<=year_end,assumptions!$E$62*(1+assumptions!$E$63)^L4,0)) -> 1.0830814 | M8: =IF(M16<=0,0,IF(M2<=year_end,assumptions!$E$62*(1+assumptions!$E$63)^M4,0)) -> 1.0993276 | ... BI8: =IF(BI16<=0,0,IF(BI2<=year_end,assumptions!$E$62*(1+assumptions!$E$63)^BI4,0)) -> 0
C9: олборлосон хүдэр | D9: сая тонн | E9: =SUM(F9:AR9) -> 2100 | F9: =IF(F16<=0,0,IF(F2<=year_end,MAX(MIN(F16,F17),0),0)) -> 40 | G9: =IF(G16<=0,0,IF(G2<=year_end,MAX(MIN(G16,G17),0),0)) -> 40 | H9: =IF(H16<=0,0,IF(H2<=year_end,MAX(MIN(H16,H17),0),0)) -> 40 | I9: =IF(I16<=0,0,IF(I2<=year_end,MAX(MIN(I16,I17),0),0)) -> 40 | J9: =IF(J16<=0,0,IF(J2<=year_end,MAX(MIN(J16,J17),0),0)) -> 40 | K9: =IF(K16<=0,0,IF(K2<=year_end,MAX(MIN(K16,K17),0),0)) -> 40 | L9: =IF(L16<=0,0,IF(L2<=year_end,MAX(MIN(L16,L17),0),0)) -> 45 | M9: =IF(M16<=0,0,IF(M2<=year_end,MAX(MIN(M16,M17),0),0)) -> 45 | ... BI9: =IF(BI16<=0,0,IF(BI2<=year_end,MAX(MIN(BI16,BI17),0),0)) -> 0
C10: хуулсан хөрс | D10: сая тонн | E10: =SUM(F10:AR10) -> 2880.0528 | F10: =IF(F2<=year_end,F8*F9,0) -> 39.620946 | G10: =IF(G2<=year_end,G8*G9,0) -> 40.21526 | H10: =IF(H2<=year_end,H8*H9,0) -> 40.818489 | I10: =IF(I2<=year_end,I8*I9,0) -> 41.430766 | J10: =IF(J2<=year_end,J8*J9,0) -> 42.052228 | K10: =IF(K2<=year_end,K8*K9,0) -> 42.683011 | L10: =IF(L2<=year_end,L8*L9,0) -> 48.738663 | M10: =IF(M2<=year_end,M8*M9,0) -> 49.469743 | ... BI10: =IF(BI2<=year_end,BI8*BI9,0) -> 0
C11: нийт олборлолт | D11: сая тонн | E11: =SUM(F11:AI11) -> 3392.2494 | F11: =IF(F2<=year_end,F9+F10,0) -> 79.620946 | G11: =IF(G2<=year_end,G9+G10,0) -> 80.21526 | H11: =IF(H2<=year_end,H9+H10,0) -> 80.818489 | I11: =IF(I2<=year_end,I9+I10,0) -> 81.430766 | J11: =IF(J2<=year_end,J9+J10,0) -> 82.052228 | K11: =IF(K2<=year_end,K9+K10,0) -> 82.683011 | L11: =IF(L2<=year_end,L9+L10,0) -> 93.738663 | M11: =IF(M2<=year_end,M9+M10,0) -> 94.469743 | ... BI11: =IF(BI2<=year_end,BI9+BI10,0) -> 0
C12: хүдрийн Cu-ийн агуулга | D12: хувь | E12: =AVERAGE(F12:AI12) -> 0.32476533 | F12: =IF(F17>0,assumptions!$E$64*100*(1+assumptions!$E$65*100)^production!F$3,0) -> 0.364 | G12: =IF(G17>0,assumptions!$E$64*100*(1+assumptions!$E$65*100)^production!G$3,0) -> 0.361088 | H12: =IF(H17>0,assumptions!$E$64*100*(1+assumptions!$E$65*100)^production!H$3,0) -> 0.3581993 | I12: =IF(I17>0,assumptions!$E$64*100*(1+assumptions!$E$65*100)^production!I$3,0) -> 0.3553337 | J12: =IF(J17>0,assumptions!$E$64*100*(1+assumptions!$E$65*100)^production!J$3,0) -> 0.35249103 | K12: =IF(K17>0,assumptions!$E$64*100*(1+assumptions!$E$65*100)^production!K$3,0) -> 0.3496711 | L12: =IF(L17>0,assumptions!$E$64*100*(1+assumptions!$E$65*100)^production!L$3,0) -> 0.34687373 | M12: =IF(M17>0,assumptions!$E$64*100*(1+assumptions!$E$65*100)^production!M$3,0) -> 0.34409875 | ... BI12: =IF(BI17>0,assumptions!$E$64*100*(1+assumptions!$E$65*100)^production!BI$3,0) -> 0
C13: хүдрийн Mo-ийн агуулга | D13: хувь | E13: =AVERAGE(F13:AI13) -> 0.012580196 | F13: =IF(F17>0,assumptions!$E$66*100*(1+assumptions!$E$67*100)^production!F$3,0) -> 0.0141 | G13: =IF(G17>0,assumptions!$E$66*100*(1+assumptions!$E$67*100)^production!G$3,0) -> 0.0139872 | H13: =IF(H17>0,assumptions!$E$66*100*(1+assumptions!$E$67*100)^production!H$3,0) -> 0.013875302 | I13: =IF(I17>0,assumptions!$E$66*100*(1+assumptions!$E$67*100)^production!I$3,0) -> 0.0137643 | J13: =IF(J17>0,assumptions!$E$66*100*(1+assumptions!$E$67*100)^production!J$3,0) -> 0.013654186 | K13: =IF(K17>0,assumptions!$E$66*100*(1+assumptions!$E$67*100)^production!K$3,0) -> 0.013544952 | L13: =IF(L17>0,assumptions!$E$66*100*(1+assumptions!$E$67*100)^production!L$3,0) -> 0.013436592 | M13: =IF(M17>0,assumptions!$E$66*100*(1+assumptions!$E$67*100)^production!M$3,0) -> 0.0133291 | ... BI13: =IF(BI17>0,assumptions!$E$66*100*(1+assumptions!$E$67*100)^production!BI$3,0) -> 0
B15: нөөц
C16: эхний үлдэгдэл | D16: сая тонн | E16: =F16 -> 2216.4 | F16: =assumptions!E57 -> 2216.4 | G16: =F18 -> 2176.4 | H16: =G18 -> 2136.4 | I16: =H18 -> 2096.4 | J16: =I18 -> 2056.4 | K16: =J18 -> 2016.4 | L16: =K18 -> 1976.4 | M16: =L18 -> 1931.4 | N16: =M18 -> 1886.4 | ... BI16: =BH18 -> 0
C17: олборлосон хүдэр | D17: сая тонн | E17: =SUM(F17:AI17) -> 1500 | F17: =IF(F2<=year_end,MIN(F21,F16),0) -> 40 | G17: =IF(G2<=year_end,MIN(G21,G16),0) -> 40 | H17: =IF(H2<=year_end,MIN(H21,H16),0) -> 40 | I17: =IF(I2<=year_end,MIN(I21,I16),0) -> 40 | J17: =IF(J2<=year_end,MIN(J21,J16),0) -> 40 | K17: =IF(K2<=year_end,MIN(K21,K16),0) -> 40 | L17: =IF(L2<=year_end,MIN(L21,L16),0) -> 45 | M17: =IF(M2<=year_end,MIN(M21,M16),0) -> 45 | ... BI17: =IF(BI2<=year_end,MIN(BI21,BI16),0) -> 0
C18: эцсийн үлдэгдэл | D18: сая тонн | E18: =AI18 -> 716.4 | F18: =F16-F17 -> 2176.4 | G18: =G16-G17 -> 2136.4 | H18: =H16-H17 -> 2096.4 | I18: =I16-I17 -> 2056.4 | J18: =J16-J17 -> 2016.4 | K18: =K16-K17 -> 1976.4 | L18: =L16-L17 -> 1931.4 | M18: =M16-M17 -> 1886.4 | ... BI18: =BI16-BI17 -> 0
B20: баяжуулалт
C21: эхний хүчин чадал | D21: сая тонн | E21: =SUM(F21:AS21) -> 2170 | F21: =assumptions!$E$70 -> 40 | G21: =IF(AND(F18>0,G2<=year_end),F23,0) -> 40 | H21: =IF(AND(G18>0,H2<=year_end),G23,0) -> 40 | I21: =IF(AND(H18>0,I2<=year_end),H23,0) -> 40 | J21: =IF(AND(I18>0,J2<=year_end),I23,0) -> 40 | K21: =IF(AND(J18>0,K2<=year_end),J23,0) -> 40 | L21: =IF(AND(K18>0,L2<=year_end),K23,0) -> 45 | M21: =IF(AND(L18>0,M2<=year_end),L23,0) -> 45 | N21: =IF(AND(M18>0,N2<=year_end),M23,0) -> 45 | ... BI21: =IF(AND(BH18>0,BI2<=year_end),BH23,0) -> 0
C22: нэмэгдсэн хүчин чадал | D22: сая тонн | E22: =SUM(F22:AS22) -> 30 | F22: =IFERROR(IF(F18>0,IF(AND(MOD(F$4,assumptions!$E$71)=0,F21<capacity_max),1,0)*assumptions!$E$72,0),0) -> 0 | G22: =IFERROR(IF(G18>0,IF(AND(MOD(G$4,assumptions!$E$71)=0,G21<capacity_max),1,0)*assumptions!$E$72,0),0) -> 0 | H22: =IFERROR(IF(H18>0,IF(AND(MOD(H$4,assumptions!$E$71)=0,H21<capacity_max),1,0)*assumptions!$E$72,0),0) -> 0 | I22: =IFERROR(IF(I18>0,IF(AND(MOD(I$4,assumptions!$E$71)=0,I21<capacity_max),1,0)*assumptions!$E$72,0),0) -> 0 | J22: =IFERROR(IF(J18>0,IF(AND(MOD(J$4,assumptions!$E$71)=0,J21<capacity_max),1,0)*assumptions!$E$72,0),0) -> 0 | K22: =IFERROR(IF(K18>0,IF(AND(MOD(K$4,assumptions!$E$71)=0,K21<capacity_max),1,0)*assumptions!$E$72,0),0) -> 5 | L22: =IFERROR(IF(L18>0,IF(AND(MOD(L$4,assumptions!$E$71)=0,L21<capacity_max),1,0)*assumptions!$E$72,0),0) -> 0 | M22: =IFERROR(IF(M18>0,IF(AND(MOD(M$4,assumptions!$E$71)=0,M21<capacity_max),1,0)*assumptions!$E$72,0),0) -> 0 | ... BI22: =IFERROR(IF(BI18>0,IF(AND(MOD(BI$4,assumptions!$E$71)=0,BI21<capacity_max),1,0)*assumptions!$E$72,0),0) -> 0
C23: эцсийн хүчин чадал | D23: сая тонн | E23: =SUM(F23:AS23) -> 2200 | F23: =IF(F2<=year_end,F21+F22,0) -> 40 | G23: =IF(G2<=year_end,G21+G22,0) -> 40 | H23: =IF(H2<=year_end,H21+H22,0) -> 40 | I23: =IF(I2<=year_end,I21+I22,0) -> 40 | J23: =IF(J2<=year_end,J21+J22,0) -> 40 | K23: =IF(K2<=year_end,K21+K22,0) -> 45 | L23: =IF(L2<=year_end,L21+L22,0) -> 45 | M23: =IF(M2<=year_end,M21+M22,0) -> 45 | ... BI23: =IF(BI2<=year_end,BI21+BI22,0) -> 0
C24: боловсруулсан хүдэр | D24: сая тонн | E24: =SUM(F24:AS24) -> 2170 | F24: =MIN(F17,F21) -> 40 | G24: =MIN(G17,G21) -> 40 | H24: =MIN(H17,H21) -> 40 | I24: =MIN(I17,I21) -> 40 | J24: =MIN(J17,J21) -> 40 | K24: =MIN(K17,K21) -> 40 | L24: =MIN(L17,L21) -> 45 | M24: =MIN(M17,M21) -> 45 | ... BI24: =MIN(BI17,BI21) -> 0
B26: агуулагдах металл
C27: хүдрийн Cu-ийн агуулга | D27: хувь | E27: =AVERAGE(F27:BI27) -> 0.22797656 | F27: =IF(F24>0,IF(F2<=year_end,assumptions!$E$64*100*(1+assumptions!$E$65*100)^production!F$3,0),0) -> 0.364 | G27: =IF(G24>0,IF(G2<=year_end,assumptions!$E$64*100*(1+assumptions!$E$65*100)^production!G$3,0),0) -> 0.361088 | H27: =IF(H24>0,IF(H2<=year_end,assumptions!$E$64*100*(1+assumptions!$E$65*100)^production!H$3,0),0) -> 0.3581993 | I27: =IF(I24>0,IF(I2<=year_end,assumptions!$E$64*100*(1+assumptions!$E$65*100)^production!I$3,0),0) -> 0.3553337 | J27: =IF(J24>0,IF(J2<=year_end,assumptions!$E$64*100*(1+assumptions!$E$65*100)^production!J$3,0),0) -> 0.35249103 | K27: =IF(K24>0,IF(K2<=year_end,assumptions!$E$64*100*(1+assumptions!$E$65*100)^production!K$3,0),0) -> 0.3496711 | L27: =IF(L24>0,IF(L2<=year_end,assumptions!$E$64*100*(1+assumptions!$E$65*100)^production!L$3,0),0) -> 0.34687373 | M27: =IF(M24>0,IF(M2<=year_end,assumptions!$E$64*100*(1+assumptions!$E$65*100)^production!M$3,0),0) -> 0.34409875 | ... BI27: =IF(BI24>0,IF(BI2<=year_end,assumptions!$E$64*100*(1+assumptions!$E$65*100)^production!BI$3,0),0) -> 0
C28: хүдрийн Mo-ийн агуулга | D28: хувь | E28: =AVERAGE(F28:BI28) -> 0.0088309603 | F28: =IF(F24>0,IF(F2<=year_end,assumptions!$E$66*100*(1+assumptions!$E$67*100)^production!F$3,0),0) -> 0.0141 | G28: =IF(G24>0,IF(G2<=year_end,assumptions!$E$66*100*(1+assumptions!$E$67*100)^production!G$3,0),0) -> 0.0139872 | H28: =IF(H24>0,IF(H2<=year_end,assumptions!$E$66*100*(1+assumptions!$E$67*100)^production!H$3,0),0) -> 0.013875302 | I28: =IF(I24>0,IF(I2<=year_end,assumptions!$E$66*100*(1+assumptions!$E$67*100)^production!I$3,0),0) -> 0.0137643 | J28: =IF(J24>0,IF(J2<=year_end,assumptions!$E$66*100*(1+assumptions!$E$67*100)^production!J$3,0),0) -> 0.013654186 | K28: =IF(K24>0,IF(K2<=year_end,assumptions!$E$66*100*(1+assumptions!$E$67*100)^production!K$3,0),0) -> 0.013544952 | L28: =IF(L24>0,IF(L2<=year_end,assumptions!$E$66*100*(1+assumptions!$E$67*100)^production!L$3,0),0) -> 0.013436592 | M28: =IF(M24>0,IF(M2<=year_end,assumptions!$E$66*100*(1+assumptions!$E$67*100)^production!M$3,0),0) -> 0.0133291 | ... BI28: =IF(BI24>0,IF(BI2<=year_end,assumptions!$E$66*100*(1+assumptions!$E$67*100)^production!BI$3,0),0) -> 0
C29: баяжмал дахь Cu-ийн агуулга | D29: харьцаа | E29: =AVERAGE(F29:BI29) -> 0.152598 | F29: =IF(F24>0,IF(F2<=year_end,assumptions!$E$79*(1+assumptions!$E$80)^F3,0),0) -> 0.23 | G29: =IF(G24>0,IF(G2<=year_end,assumptions!$E$79*(1+assumptions!$E$80)^G3,0),0) -> 0.22885 | H29: =IF(H24>0,IF(H2<=year_end,assumptions!$E$79*(1+assumptions!$E$80)^H3,0),0) -> 0.22770575 | I29: =IF(I24>0,IF(I2<=year_end,assumptions!$E$79*(1+assumptions!$E$80)^I3,0),0) -> 0.22656722 | J29: =IF(J24>0,IF(J2<=year_end,assumptions!$E$79*(1+assumptions!$E$80)^J3,0),0) -> 0.22543439 | K29: =IF(K24>0,IF(K2<=year_end,assumptions!$E$79*(1+assumptions!$E$80)^K3,0),0) -> 0.22430721 | L29: =IF(L24>0,IF(L2<=year_end,assumptions!$E$79*(1+assumptions!$E$80)^L3,0),0) -> 0.22318568 | M29: =IF(M24>0,IF(M2<=year_end,assumptions!$E$79*(1+assumptions!$E$80)^M3,0),0) -> 0.22206975 | ... BI29: =IF(BI24>0,IF(BI2<=year_end,assumptions!$E$79*(1+assumptions!$E$80)^BI3,0),0) -> 0
C30: баяжмал дахь Mo-ийн агуулга | D30: харьцаа | E30: =AVERAGE(F30:BI30) -> 0.36563626 | F30: =IF(F24>0,IF(F2<=year_end,assumptions!$E$81*(1+assumptions!$E$82)^production!F3,0),0) -> 0.53 | G30: =IF(G24>0,IF(G2<=year_end,assumptions!$E$81*(1+assumptions!$E$82)^production!G3,0),0) -> 0.52841 | H30: =IF(H24>0,IF(H2<=year_end,assumptions!$E$81*(1+assumptions!$E$82)^production!H3,0),0) -> 0.52682477 | I30: =IF(I24>0,IF(I2<=year_end,assumptions!$E$81*(1+assumptions!$E$82)^production!I3,0),0) -> 0.5252443 | J30: =IF(J24>0,IF(J2<=year_end,assumptions!$E$81*(1+assumptions!$E$82)^production!J3,0),0) -> 0.52366856 | K30: =IF(K24>0,IF(K2<=year_end,assumptions!$E$81*(1+assumptions!$E$82)^production!K3,0),0) -> 0.52209756 | L30: =IF(L24>0,IF(L2<=year_end,assumptions!$E$81*(1+assumptions!$E$82)^production!L3,0),0) -> 0.52053126 | M30: =IF(M24>0,IF(M2<=year_end,assumptions!$E$81*(1+assumptions!$E$82)^production!M3,0),0) -> 0.51896967 | ... BI30: =IF(BI24>0,IF(BI2<=year_end,assumptions!$E$81*(1+assumptions!$E$82)^production!BI3,0),0) -> 0
C31: баяжмал дахь Au-ийн агуулга | D31: грамм/тонн | E31: =AVERAGE(F31:BI31) -> 0.20696392 | F31: =IF(F24>0,IF(F2<=year_end,assumptions!$E$83*(1+assumptions!$E$84)^production!F3,0),0) -> 0.3 | G31: =IF(G24>0,IF(G2<=year_end,assumptions!$E$83*(1+assumptions!$E$84)^production!G3,0),0) -> 0.2991 | H31: =IF(H24>0,IF(H2<=year_end,assumptions!$E$83*(1+assumptions!$E$84)^production!H3,0),0) -> 0.2982027 | I31: =IF(I24>0,IF(I2<=year_end,assumptions!$E$83*(1+assumptions!$E$84)^production!I3,0),0) -> 0.29730809 | J31: =IF(J24>0,IF(J2<=year_end,assumptions!$E$83*(1+assumptions!$E$84)^production!J3,0),0) -> 0.29641617 | K31: =IF(K24>0,IF(K2<=year_end,assumptions!$E$83*(1+assumptions!$E$84)^production!K3,0),0) -> 0.29552692 | L31: =IF(L24>0,IF(L2<=year_end,assumptions!$E$83*(1+assumptions!$E$84)^production!L3,0),0) -> 0.29464034 | M31: =IF(M24>0,IF(M2<=year_end,assumptions!$E$83*(1+assumptions!$E$84)^production!M3,0),0) -> 0.29375642 | ... BI31: =IF(BI24>0,IF(BI2<=year_end,assumptions!$E$83*(1+assumptions!$E$84)^production!BI3,0),0) -> 0
C32: баяжмал дахь Ag-ийн агуулга | D32: грамм/тонн | E32: =AVERAGE(F32:BI32) -> 48.291582 | F32: =IF(F24>0,IF(F3<=year_end,assumptions!$E$85*(1+assumptions!$E$86)^production!F3,0),0) -> 70 | G32: =IF(G24>0,IF(G3<=year_end,assumptions!$E$85*(1+assumptions!$E$86)^production!G3,0),0) -> 69.79 | H32: =IF(H24>0,IF(H3<=year_end,assumptions!$E$85*(1+assumptions!$E$86)^production!H3,0),0) -> 69.58063 | I32: =IF(I24>0,IF(I3<=year_end,assumptions!$E$85*(1+assumptions!$E$86)^production!I3,0),0) -> 69.371888 | J32: =IF(J24>0,IF(J3<=year_end,assumptions!$E$85*(1+assumptions!$E$86)^production!J3,0),0) -> 69.163772 | K32: =IF(K24>0,IF(K3<=year_end,assumptions!$E$85*(1+assumptions!$E$86)^production!K3,0),0) -> 68.956281 | L32: =IF(L24>0,IF(L3<=year_end,assumptions!$E$85*(1+assumptions!$E$86)^production!L3,0),0) -> 68.749412 | M32: =IF(M24>0,IF(M3<=year_end,assumptions!$E$85*(1+assumptions!$E$86)^production!M3,0),0) -> 68.543164 | ... BI32: =IF(BI24>0,IF(BI3<=year_end,assumptions!$E$85*(1+assumptions!$E$86)^production!BI3,0),0) -> 0
C33: Cu авалт | D33: харьцаа | E33: =AVERAGE(F33:BI33) -> 0.57628967 | F33: =IF(F24>0,assumptions!$E$74*(1+assumptions!$E$80)^F3,0) -> 0.8686 | G33: =IF(G24>0,assumptions!$E$74*(1+assumptions!$E$80)^G3,0) -> 0.864257 | H33: =IF(H24>0,assumptions!$E$74*(1+assumptions!$E$80)^H3,0) -> 0.85993572 | I33: =IF(I24>0,assumptions!$E$74*(1+assumptions!$E$80)^I3,0) -> 0.85563604 | J33: =IF(J24>0,assumptions!$E$74*(1+assumptions!$E$80)^J3,0) -> 0.85135786 | K33: =IF(K24>0,assumptions!$E$74*(1+assumptions!$E$80)^K3,0) -> 0.84710107 | L33: =IF(L24>0,assumptions!$E$74*(1+assumptions!$E$80)^L3,0) -> 0.84286556 | M33: =IF(M24>0,assumptions!$E$74*(1+assumptions!$E$80)^M3,0) -> 0.83865123 | ... BI33: =IF(BI24>0,assumptions!$E$74*(1+assumptions!$E$80)^BI3,0) -> 0
C34: Mo авалт | D34: харьцаа | E34: =AVERAGE(F34:BI34) -> 0.33114227 | F34: =IF(F24>0,IF(F2<=year_end,assumptions!$E$75*(1+assumptions!$E$76)^production!F3,0),0) -> 0.48 | G34: =IF(G24>0,IF(G2<=year_end,assumptions!$E$75*(1+assumptions!$E$76)^production!G3,0),0) -> 0.47856 | H34: =IF(H24>0,IF(H2<=year_end,assumptions!$E$75*(1+assumptions!$E$76)^production!H3,0),0) -> 0.47712432 | I34: =IF(I24>0,IF(I2<=year_end,assumptions!$E$75*(1+assumptions!$E$76)^production!I3,0),0) -> 0.47569295 | J34: =IF(J24>0,IF(J2<=year_end,assumptions!$E$75*(1+assumptions!$E$76)^production!J3,0),0) -> 0.47426587 | K34: =IF(K24>0,IF(K2<=year_end,assumptions!$E$75*(1+assumptions!$E$76)^production!K3,0),0) -> 0.47284307 | L34: =IF(L24>0,IF(L2<=year_end,assumptions!$E$75*(1+assumptions!$E$76)^production!L3,0),0) -> 0.47142454 | M34: =IF(M24>0,IF(M2<=year_end,assumptions!$E$75*(1+assumptions!$E$76)^production!M3,0),0) -> 0.47001027 | ... BI34: =IF(BI24>0,IF(BI2<=year_end,assumptions!$E$75*(1+assumptions!$E$76)^production!BI3,0),0) -> 0
C35: Au авалт | D35: харьцаа | E35: =AVERAGE(F35:BI35) -> 0.5174098 | F35: =IF(F24>0,assumptions!$E$77*(1+assumptions!$E$84)^F3,0) -> 0.75 | G35: =IF(G24>0,assumptions!$E$77*(1+assumptions!$E$84)^G3,0) -> 0.74775 | H35: =IF(H24>0,assumptions!$E$77*(1+assumptions!$E$84)^H3,0) -> 0.74550675 | I35: =IF(I24>0,assumptions!$E$77*(1+assumptions!$E$84)^I3,0) -> 0.74327023 | J35: =IF(J24>0,assumptions!$E$77*(1+assumptions!$E$84)^J3,0) -> 0.74104042 | K35: =IF(K24>0,assumptions!$E$77*(1+assumptions!$E$84)^K3,0) -> 0.7388173 | L35: =IF(L24>0,assumptions!$E$77*(1+assumptions!$E$84)^L3,0) -> 0.73660085 | M35: =IF(M24>0,assumptions!$E$77*(1+assumptions!$E$84)^M3,0) -> 0.73439104 | ... BI35: =IF(BI24>0,assumptions!$E$77*(1+assumptions!$E$84)^BI3,0) -> 0
C36: Ag авалт | D36: харьцаа | E36: =AVERAGE(F36:BI36) -> 0.58639778 | F36: =IF(F24>0,assumptions!$E$78*(1+assumptions!$E$86)^F3,0) -> 0.85 | G36: =IF(G24>0,assumptions!$E$78*(1+assumptions!$E$86)^G3,0) -> 0.84745 | H36: =IF(H24>0,assumptions!$E$78*(1+assumptions!$E$86)^H3,0) -> 0.84490765 | I36: =IF(I24>0,assumptions!$E$78*(1+assumptions!$E$86)^I3,0) -> 0.84237293 | J36: =IF(J24>0,assumptions!$E$78*(1+assumptions!$E$86)^J3,0) -> 0.83984581 | K36: =IF(K24>0,assumptions!$E$78*(1+assumptions!$E$86)^K3,0) -> 0.83732627 | L36: =IF(L24>0,assumptions!$E$78*(1+assumptions!$E$86)^L3,0) -> 0.83481429 | M36: =IF(M24>0,assumptions!$E$78*(1+assumptions!$E$86)^M3,0) -> 0.83230985 | ... BI36: =IF(BI24>0,assumptions!$E$78*(1+assumptions!$E$86)^BI3,0) -> 0
B38: баяжмал
C39: Cu баяжмалын хэмжээ | D39: мян. тонн | E39: =SUM(F39:BI39) -> 25660.576 | F39: =IF(F24>0,IF(F2<=year_end,F24*F27/100*F33/F29*1000,0),0) -> 549.86157 | G39: =IF(G24>0,IF(G2<=year_end,G24*G27/100*G33/G29*1000,0),0) -> 545.46267 | H39: =IF(H24>0,IF(H2<=year_end,H24*H27/100*H33/H29*1000,0),0) -> 541.09897 | I39: =IF(I24>0,IF(I2<=year_end,I24*I27/100*I33/I29*1000,0),0) -> 536.77018 | J39: =IF(J24>0,IF(J2<=year_end,J24*J27/100*J33/J29*1000,0),0) -> 532.47602 | K39: =IF(K24>0,IF(K2<=year_end,K24*K27/100*K33/K29*1000,0),0) -> 528.21621 | L39: =IF(L24>0,IF(L2<=year_end,L24*L27/100*L33/L29*1000,0),0) -> 589.48929 | M39: =IF(M24>0,IF(M2<=year_end,M24*M27/100*M33/M29*1000,0),0) -> 584.77338 | ... BI39: =IF(BI24>0,IF(BI2<=year_end,BI24*BI27/100*BI33/BI29*1000,0),0) -> 0
C40: Mo баяжмалын хэмжээ | D40: тонн | E40: =SUM(F40:BI40) -> 238373.25 | F40: =IF(F24>0,IF(F2<=year_end,F24*F28/100*F34/F30*1000000,0),0) -> 5107.9245 | G40: =IF(G24>0,IF(G2<=year_end,G24*G28/100*G34/G30*1000000,0),0) -> 5067.0611 | H40: =IF(H24>0,IF(H2<=year_end,H24*H28/100*H34/H30*1000000,0),0) -> 5026.5246 | I40: =IF(I24>0,IF(I2<=year_end,I24*I28/100*I34/I30*1000000,0),0) -> 4986.3124 | J40: =IF(J24>0,IF(J2<=year_end,J24*J28/100*J34/J30*1000000,0),0) -> 4946.4219 | K40: =IF(K24>0,IF(K2<=year_end,K24*K28/100*K34/K30*1000000,0),0) -> 4906.8506 | L40: =IF(L24>0,IF(L2<=year_end,L24*L28/100*L34/L30*1000000,0),0) -> 5476.0452 | M40: =IF(M24>0,IF(M2<=year_end,M24*M28/100*M34/M30*1000000,0),0) -> 5432.2369 | ... BI40: =IF(BI24>0,IF(BI2<=year_end,BI24*BI28/100*BI34/BI30*1000000,0),0) -> 0
C41: Cu баяжмал дахь хүнцэл | D41: тонн | E41: =SUM(F41:BI41) -> 76981.729 | F41: =IF(F24>0,assumptions!$E$115*F39/1000,0) -> 1649.5847 | G41: =IF(G24>0,assumptions!$E$115*G39/1000,0) -> 1636.388 | H41: =IF(H24>0,assumptions!$E$115*H39/1000,0) -> 1623.2969 | I41: =IF(I24>0,assumptions!$E$115*I39/1000,0) -> 1610.3105 | J41: =IF(J24>0,assumptions!$E$115*J39/1000,0) -> 1597.4281 | K41: =IF(K24>0,assumptions!$E$115*K39/1000,0) -> 1584.6486 | L41: =IF(L24>0,assumptions!$E$115*L39/1000,0) -> 1768.4679 | M41: =IF(M24>0,assumptions!$E$115*M39/1000,0) -> 1754.3201 | ... BI41: =IF(BI24>0,assumptions!$E$115*BI39/1000,0) -> 0
C42: Cu баяжмал дахь фтор | D42: тонн | E42: =SUM(F42:BI42) -> 30792.692 | F42: =IF(F24>0,assumptions!$E$118*F39/1000,0) -> 659.83388 | G42: =IF(G24>0,assumptions!$E$118*G39/1000,0) -> 654.55521 | H42: =IF(H24>0,assumptions!$E$118*H39/1000,0) -> 649.31877 | I42: =IF(I24>0,assumptions!$E$118*I39/1000,0) -> 644.12422 | J42: =IF(J24>0,assumptions!$E$118*J39/1000,0) -> 638.97122 | K42: =IF(K24>0,assumptions!$E$118*K39/1000,0) -> 633.85945 | L42: =IF(L24>0,assumptions!$E$118*L39/1000,0) -> 707.38715 | M42: =IF(M24>0,assumptions!$E$118*M39/1000,0) -> 701.72805 | ... BI42: =IF(BI24>0,assumptions!$E$118*BI39/1000,0) -> 0
B44: баяжмал дахь металл
C45: Cu | D45: мян. тонн | E45: =SUM(F45:BI45) -> 5325.7315 | F45: =IF(F24>0,IF(F2<=year_end,F39*F29,0),0) -> 126.46816 | G45: =IF(G24>0,IF(G2<=year_end,G39*G29,0),0) -> 124.82913 | H45: =IF(H24>0,IF(H2<=year_end,H39*H29,0),0) -> 123.21135 | I45: =IF(I24>0,IF(I2<=year_end,I39*I29,0),0) -> 121.61453 | J45: =IF(J24>0,IF(J2<=year_end,J39*J29,0),0) -> 120.0384 | K45: =IF(K24>0,IF(K2<=year_end,K39*K29,0),0) -> 118.48271 | L45: =IF(L24>0,IF(L2<=year_end,L39*L29,0),0) -> 131.56557 | M45: =IF(M24>0,IF(M2<=year_end,M39*M29,0),0) -> 129.86048 | ... BI45: =IF(BI24>0,IF(BI2<=year_end,BI39*BI29,0),0) -> 0
...

Sheet revenue
A1: ОРЛОГО
E2: year_calendar--> | F2: =IF(year_start+(COLUMN()-COLUMN($F$2))<=year_end,year_start+(COLUMN()-COLUMN($F$2)),"") -> 2025 | G2: =IF(year_start+(COLUMN()-COLUMN($F$2))<=year_end,year_start+(COLUMN()-COLUMN($F$2)),"") -> 2026 | H2: =IF(year_start+(COLUMN()-COLUMN($F$2))<=year_end,year_start+(COLUMN()-COLUMN($F$2)),"") -> 2027 | I2: =IF(year_start+(COLUMN()-COLUMN($F$2))<=year_end,year_start+(COLUMN()-COLUMN($F$2)),"") -> 2028 | J2: =IF(year_start+(COLUMN()-COLUMN($F$2))<=year_end,year_start+(COLUMN()-COLUMN($F$2)),"") -> 2029 | K2: =IF(year_start+(COLUMN()-COLUMN($F$2))<=year_end,year_start+(COLUMN()-COLUMN($F$2)),"") -> 2030 | L2: =IF(year_start+(COLUMN()-COLUMN($F$2))<=year_end,year_start+(COLUMN()-COLUMN($F$2)),"") -> 2031 | M2: =IF(year_start+(COLUMN()-COLUMN($F$2))<=year_end,year_start+(COLUMN()-COLUMN($F$2)),"") -> 2032 | ... BW2: =IF(year_start+(COLUMN()-COLUMN($F$2))<=year_end,year_start+(COLUMN()-COLUMN($F$2)),"")
E3: year_start--> | F3: =IF(year_start+(COLUMN()-COLUMN($F$2))<=year_end,F2-year_start,"") -> 0 | G3: =IF(year_start+(COLUMN()-COLUMN($F$2))<=year_end,G2-year_start,"") -> 1 | H3: =IF(year_start+(COLUMN()-COLUMN($F$2))<=year_end,H2-year_start,"") -> 2 | I3: =IF(year_start+(COLUMN()-COLUMN($F$2))<=year_end,I2-year_start,"") -> 3 | J3: =IF(year_start+(COLUMN()-COLUMN($F$2))<=year_end,J2-year_start,"") -> 4 | K3: =IF(year_start+(COLUMN()-COLUMN($F$2))<=year_end,K2-year_start,"") -> 5 | L3: =IF(year_start+(COLUMN()-COLUMN($F$2))<=year_end,L2-year_start,"") -> 6 | M3: =IF(year_start+(COLUMN()-COLUMN($F$2))<=year_end,M2-year_start,"") -> 7 | ... BW3: =IF(year_start+(COLUMN()-COLUMN($F$2))<=year_end,BW2-year_start,"")
E4: year_end--> | F4: =IF(year_start+(COLUMN()-COLUMN($F$2))<=year_end,F3+1,"") -> 1 | G4: =IF(year_start+(COLUMN()-COLUMN($F$2))<=year_end,G3+1,"") -> 2 | H4: =IF(year_start+(COLUMN()-COLUMN($F$2))<=year_end,H3+1,"") -> 3 | I4: =IF(year_start+(COLUMN()-COLUMN($F$2))<=year_end,I3+1,"") -> 4 | J4: =IF(year_start+(COLUMN()-COLUMN($F$2))<=year_end,J3+1,"") -> 5 | K4: =IF(year_start+(COLUMN()-COLUMN($F$2))<=year_end,K3+1,"") -> 6 | L4: =IF(year_start+(COLUMN()-COLUMN($F$2))<=year_end,L3+1,"") -> 7 | M4: =IF(year_start+(COLUMN()-COLUMN($F$2))<=year_end,M3+1,"") -> 8 | ... BW4: =IF(year_start+(COLUMN()-COLUMN($F$2))<=year_end,BW3+1,"")
A5: хувьсагч | D5: нэгж | E5: total/average
A7: БОДИТ ҮНЭ
A9: үнэ
C10: зэс | D10: ам.доллар/тонн | E10: =AVERAGEIF(F10:BI10,">0") -> 12200.593 | F10: =IF(production!F24>0,IF(F2<=year_end,assumptions!$E$34*(1+assumptions!$E$35)^F3,0),0) -> 11023.1 | G10: =IF(production!G24>0,IF(G2<=year_end,assumptions!$E$34*(1+assumptions!$E$35)^G3,0),0) -> 11078.215 | H10: =IF(production!H24>0,IF(H2<=year_end,assumptions!$E$34*(1+assumptions!$E$35)^H3,0),0) -> 11133.607 | I10: =IF(production!I24>0,IF(I2<=year_end,assumptions!$E$34*(1+assumptions!$E$35)^I3,0),0) -> 11189.275 | J10: =IF(production!J24>0,IF(J2<=year_end,assumptions!$E$34*(1+assumptions!$E$35)^J3,0),0) -> 11245.221 | K10: =IF(production!K24>0,IF(K2<=year_end,assumptions!$E$34*(1+assumptions!$E$35)^K3,0),0) -> 11301.447 | L10: =IF(production!L24>0,IF(L2<=year_end,assumptions!$E$34*(1+assumptions!$E$35)^L3,0),0) -> 11357.954 | M10: =IF(production!M24>0,IF(M2<=year_end,assumptions!$E$34*(1+assumptions!$E$35)^M3,0),0) -> 11414.744 | ... BI10: =IF(production!BI24>0,IF(BI2<=year_end,assumptions!$E$34*(1+assumptions!$E$35)^BI3,0),0) -> 0
C11: молибден | D11: ам.доллар/тонн | E11: =AVERAGEIF(F11:BI11,">0") -> 61002.967 | F11: =IF(production!F24>0,IF(F2<=year_end,assumptions!$E$37*(1+assumptions!$E$38)^F3,0),0) -> 55115.5 | G11: =IF(production!G24>0,IF(G2<=year_end,assumptions!$E$37*(1+assumptions!$E$38)^G3,0),0) -> 55391.077 | H11: =IF(production!H24>0,IF(H2<=year_end,assumptions!$E$37*(1+assumptions!$E$38)^H3,0),0) -> 55668.033 | I11: =IF(production!I24>0,IF(I2<=year_end,assumptions!$E$37*(1+assumptions!$E$38)^I3,0),0) -> 55946.373 | J11: =IF(production!J24>0,IF(J2<=year_end,assumptions!$E$37*(1+assumptions!$E$38)^J3,0),0) -> 56226.105 | K11: =IF(production!K24>0,IF(K2<=year_end,assumptions!$E$37*(1+assumptions!$E$38)^K3,0),0) -> 56507.235 | L11: =IF(production!L24>0,IF(L2<=year_end,assumptions!$E$37*(1+assumptions!$E$38)^L3,0),0) -> 56789.772 | M11: =IF(production!M24>0,IF(M2<=year_end,assumptions!$E$37*(1+assumptions!$E$38)^M3,0),0) -> 57073.72 | ... BI11: =IF(production!BI24>0,IF(BI2<=year_end,assumptions!$E$37*(1+assumptions!$E$38)^BI3,0),0) -> 0
C12: алт | D12: ам.доллар/унц | E12: =AVERAGEIF(F12:BI12,">0") -> 3000 | F12: =IF(production!F24>0,IF(F2<=year_end,assumptions!$E$39,0),0) -> 3000 | G12: =IF(production!G24>0,IF(G2<=year_end,assumptions!$E$39,0),0) -> 3000 | H12: =IF(production!H24>0,IF(H2<=year_end,assumptions!$E$39,0),0) -> 3000 | I12: =IF(production!I24>0,IF(I2<=year_end,assumptions!$E$39,0),0) -> 3000 | J12: =IF(production!J24>0,IF(J2<=year_end,assumptions!$E$39,0),0) -> 3000 | K12: =IF(production!K24>0,IF(K2<=year_end,assumptions!$E$39,0),0) -> 3000 | L12: =IF(production!L24>0,IF(L2<=year_end,assumptions!$E$39,0),0) -> 3000 | M12: =IF(production!M24>0,IF(M2<=year_end,assumptions!$E$39,0),0) -> 3000 | ... BI12: =IF(production!BI24>0,IF(BI2<=year_end,assumptions!$E$39,0),0) -> 0
C13: мөнгө | D13: ам.доллар/унц | E13: =AVERAGEIF(F13:BI13,">0") -> 35 | F13: =IF(production!F24>0,IF(F2<=year_end,assumptions!$E$40,0),0) -> 35 | G13: =IF(production!G24>0,IF(G2<=year_end,assumptions!$E$40,0),0) -> 35 | H13: =IF(production!H24>0,IF(H2<=year_end,assumptions!$E$40,0),0) -> 35 | I13: =IF(production!I24>0,IF(I2<=year_end,assumptions!$E$40,0),0) -> 35 | J13: =IF(production!J24>0,IF(J2<=year_end,assumptions!$E$40,0),0) -> 35 | K13: =IF(production!K24>0,IF(K2<=year_end,assumptions!$E$40,0),0) -> 35 | L13: =IF(production!L24>0,IF(L2<=year_end,assumptions!$E$40,0),0) -> 35 | M13: =IF(production!M24>0,IF(M2<=year_end,assumptions!$E$40,0),0) -> 35 | ... BI13: =IF(production!BI24>0,IF(BI2<=year_end,assumptions!$E$40,0),0) -> 0
C14: боловсруулалтын төлбөр | D14: ам.доллар/тонн | E14: =AVERAGEIF(F14:BI14,">0") -> 50 | F14: =IF(production!F24>0,IF(F2<=year_end,assumptions!$E$41*(1+assumptions!$E$42)^F3,0),0) -> 50 | G14: =IF(production!G24>0,IF(G2<=year_end,assumptions!$E$41*(1+assumptions!$E$42)^G3,0),0) -> 50 | H14: =IF(production!H24>0,IF(H2<=year_end,assumptions!$E$41*(1+assumptions!$E$42)^H3,0),0) -> 50 | I14: =IF(production!I24>0,IF(I2<=year_end,assumptions!$E$41*(1+assumptions!$E$42)^I3,0),0) -> 50 | J14: =IF(production!J24>0,IF(J2<=year_end,assumptions!$E$41*(1+assumptions!$E$42)^J3,0),0) -> 50 | K14: =IF(production!K24>0,IF(K2<=year_end,assumptions!$E$41*(1+assumptions!$E$42)^K3,0),0) -> 50 | L14: =IF(production!L24>0,IF(L2<=year_end,assumptions!$E$41*(1+assumptions!$E$42)^L3,0),0) -> 50 | M14: =IF(production!M24>0,IF(M2<=year_end,assumptions!$E$41*(1+assumptions!$E$42)^M3,0),0) -> 50 | ... BI14: =IF(production!BI24>0,IF(BI2<=year_end,assumptions!$E$41*(1+assumptions!$E$42)^BI3,0),0) -> 0
C15: Cu цэвэршүүлэлтийн төлбөр | D15: цент/фунт | E15: =AVERAGEIF(F15:BI15,">0") -> 5 | F15: =IF(production!F24>0,IF(F2<=year_end,assumptions!$E$43*(1+assumptions!$E$44)^F3,0),0) -> 5 | G15: =IF(production!G24>0,IF(G2<=year_end,assumptions!$E$43*(1+assumptions!$E$44)^G3,0),0) -> 5 | H15: =IF(production!H24>0,IF(H2<=year_end,assumptions!$E$43*(1+assumptions!$E$44)^H3,0),0) -> 5 | I15: =IF(production!I24>0,IF(I2<=year_end,assumptions!$E$43*(1+assumptions!$E$44)^I3,0),0) -> 5 | J15: =IF(production!J24>0,IF(J2<=year_end,assumptions!$E$43*(1+assumptions!$E$44)^J3,0),0) -> 5 | K15: =IF(production!K24>0,IF(K2<=year_end,assumptions!$E$43*(1+assumptions!$E$44)^K3,0),0) -> 5 | L15: =IF(production!L24>0,IF(L2<=year_end,assumptions!$E$43*(1+assumptions!$E$44)^L3,0),0) -> 5 | M15: =IF(production!M24>0,IF(M2<=year_end,assumptions!$E$43*(1+assumptions!$E$44)^M3,0),0) -> 5 | ... BI15: =IF(production!BI24>0,IF(BI2<=year_end,assumptions!$E$43*(1+assumptions!$E$44)^BI3,0),0) -> 0
C16: Au цэвэршүүлэлтийн төлбөр | D16: ам.доллар/унц | E16: =AVERAGEIF(F16:BI16,">0") -> 8 | F16: =IF(production!F24>0,IF(F2<=year_end,assumptions!$E$47,0),0) -> 8 | G16: =IF(production!G24>0,IF(G2<=year_end,assumptions!$E$47,0),0) -> 8 | H16: =IF(production!H24>0,IF(H2<=year_end,assumptions!$E$47,0),0) -> 8 | I16: =IF(production!I24>0,IF(I2<=year_end,assumptions!$E$47,0),0) -> 8 | J16: =IF(production!J24>0,IF(J2<=year_end,assumptions!$E$47,0),0) -> 8 | K16: =IF(production!K24>0,IF(K2<=year_end,assumptions!$E$47,0),0) -> 8 | L16: =IF(production!L24>0,IF(L2<=year_end,assumptions!$E$47,0),0) -> 8 | M16: =IF(production!M24>0,IF(M2<=year_end,assumptions!$E$47,0),0) -> 8 | ... BI16: =IF(production!BI24>0,IF(BI2<=year_end,assumptions!$E$47,0),0) -> 0
C17: Ag цэвэршүүлэлтийн төлбөр | D17: ам.доллар/унц | E17: =AVERAGEIF(F17:BI17,">0") -> 0.5 | F17: =IF(production!F24>0,IF(F2<=year_end,assumptions!$E$48,0),0) -> 0.5 | G17: =IF(production!G24>0,IF(G2<=year_end,assumptions!$E$48,0),0) -> 0.5 | H17: =IF(production!H24>0,IF(H2<=year_end,assumptions!$E$48,0),0) -> 0.5 | I17: =IF(production!I24>0,IF(I2<=year_end,assumptions!$E$48,0),0) -> 0.5 | J17: =IF(production!J24>0,IF(J2<=year_end,assumptions!$E$48,0),0) -> 0.5 | K17: =IF(production!K24>0,IF(K2<=year_end,assumptions!$E$48,0),0) -> 0.5 | L17: =IF(production!L24>0,IF(L2<=year_end,assumptions!$E$48,0),0) -> 0.5 | M17: =IF(production!M24>0,IF(M2<=year_end,assumptions!$E$48,0),0) -> 0.5 | ... BI17: =IF(production!BI24>0,IF(BI2<=year_end,assumptions!$E$48,0),0) -> 0
C18: шатаалтын төлбөр | D18: ам.доллар/фунт | E18: =AVERAGEIF(F18:BI18,">0") -> 2 | F18: =IF(production!F24>0,IF(F2<=year_end,assumptions!$E$45*(1+assumptions!$E$46)^F3,0),0) -> 2 | G18: =IF(production!G24>0,IF(G2<=year_end,assumptions!$E$45*(1+assumptions!$E$46)^G3,0),0) -> 2 | H18: =IF(production!H24>0,IF(H2<=year_end,assumptions!$E$45*(1+assumptions!$E$46)^H3,0),0) -> 2 | I18: =IF(production!I24>0,IF(I2<=year_end,assumptions!$E$45*(1+assumptions!$E$46)^I3,0),0) -> 2 | J18: =IF(production!J24>0,IF(J2<=year_end,assumptions!$E$45*(1+assumptions!$E$46)^J3,0),0) -> 2 | K18: =IF(production!K24>0,IF(K2<=year_end,assumptions!$E$45*(1+assumptions!$E$46)^K3,0),0) -> 2 | L18: =IF(production!L24>0,IF(L2<=year_end,assumptions!$E$45*(1+assumptions!$E$46)^L3,0),0) -> 2 | M18: =IF(production!M24>0,IF(M2<=year_end,assumptions!$E$45*(1+assumptions!$E$46)^M3,0),0) -> 2 | ... BI18: =IF(production!BI24>0,IF(BI2<=year_end,assumptions!$E$45*(1+assumptions!$E$46)^BI3,0),0) -> 0
C19: хүхрийн хүчил | D19: ам.доллар/тонн | E19: =AVERAGEIF(F19:BI19,">0") -> 80 | F19: =IF(production!F24>0,assumptions!$E$49,0) -> 80 | G19: =IF(production!G24>0,assumptions!$E$49,0) -> 80 | H19: =IF(production!H24>0,assumptions!$E$49,0) -> 80 | I19: =IF(production!I24>0,assumptions!$E$49,0) -> 80 | J19: =IF(production!J24>0,assumptions!$E$49,0) -> 80 | K19: =IF(production!K24>0,assumptions!$E$49,0) -> 80 | L19: =IF(production!L24>0,assumptions!$E$49,0) -> 80 | M19: =IF(production!M24>0,assumptions!$E$49,0) -> 80 | ... BI19: =IF(production!BI24>0,assumptions!$E$49,0) -> 0
A21: олборлолт
A23: орлого
B24: нийт орлого
C25: зэс | D25: сая ам.доллар | E25: =SUM(F25:AX25) -> 57428.946 | F25: =IF(F2<=year_end,F10*production!F45*production!F49*(1-moist_cu)/1000,0) -> 1231.2437 | G25: =IF(G2<=year_end,G10*production!G45*production!G49*(1-moist_cu)/1000,0) -> 1221.3632 | H25: =IF(H2<=year_end,H10*production!H45*production!H49*(1-moist_cu)/1000,0) -> 1211.562 | I25: =IF(I2<=year_end,I10*production!I45*production!I49*(1-moist_cu)/1000,0) -> 1201.8394 | J25: =IF(J2<=year_end,J10*production!J45*production!J49*(1-moist_cu)/1000,0) -> 1192.1949 | K25: =IF(K2<=year_end,K10*production!K45*production!K49*(1-moist_cu)/1000,0) -> 1182.6278 | L25: =IF(L2<=year_end,L10*production!L45*production!L49*(1-moist_cu)/1000,0) -> 1319.7796 | M25: =IF(M2<=year_end,M10*production!M45*production!M49*(1-moist_cu)/1000,0) -> 1309.1887 | ... BI25: =IF(BI2<=year_end,BI10*production!BI45*production!BI49*(1-moist_cu)/1000,0) -> 0
C26: молибден | D26: сая ам.доллар | E26: =SUM(F26:AX26) -> 6010.3142 | F26: =IF(F2<=year_end,F11*production!F46*production!F50*(1-moist_mo)/1000000,0) -> 123.54479 | G26: =IF(G2<=year_end,G11*production!G46*production!G50*(1-moist_mo)/1000000,0) -> 122.7997 | H26: =IF(H2<=year_end,H11*production!H46*production!H50*(1-moist_mo)/1000000,0) -> 122.05911 | I26: =IF(I2<=year_end,I11*production!I46*production!I50*(1-moist_mo)/1000000,0) -> 121.32299 | J26: =IF(J2<=year_end,J11*production!J46*production!J50*(1-moist_mo)/1000000,0) -> 120.59131 | K26: =IF(K2<=year_end,K11*production!K46*production!K50*(1-moist_mo)/1000000,0) -> 119.86403 | L26: =IF(L2<=year_end,L11*production!L46*production!L50*(1-moist_mo)/1000000,0) -> 134.03379 | M26: =IF(M2<=year_end,M11*production!M46*production!M50*(1-moist_mo)/1000000,0) -> 133.22545 | ... BI26: =IF(BI2<=year_end,BI11*production!BI46*production!BI50*(1-moist_mo)/1000000,0) -> 0
C27: алт | D27: сая ам.доллар | E27: =SUM(F27:AX27) -> 609.94538 | F27: =IF(F2<=year_end,F12*production!F47*production!F51*(1-moist_cu)/1000,0) -> 13.905877 | G27: =IF(G2<=year_end,G12*production!G47*production!G51*(1-moist_cu)/1000,0) -> 13.753246 | H27: =IF(H2<=year_end,H12*production!H47*production!H51*(1-moist_cu)/1000,0) -> 13.60229 | I27: =IF(I2<=year_end,I12*production!I47*production!I51*(1-moist_cu)/1000,0) -> 13.452991 | J27: =IF(J2<=year_end,J12*production!J47*production!J51*(1-moist_cu)/1000,0) -> 13.305331 | K27: =IF(K2<=year_end,K12*production!K47*production!K51*(1-moist_cu)/1000,0) -> 13.159292 | L27: =IF(L2<=year_end,L12*production!L47*production!L51*(1-moist_cu)/1000,0) -> 14.641712 | M27: =IF(M2<=year_end,M12*production!M47*production!M51*(1-moist_cu)/1000,0) -> 14.481005 | ... BI27: =IF(BI2<=year_end,BI12*production!BI47*production!BI51*(1-moist_cu)/1000,0) -> 0
C28: мөнгө | D28: сая ам.доллар | E28: =SUM(F28:AX28) -> 1573.017 | F28: =IF(F3<=year_end,F13*production!F48*production!F52*(1-moist_cu)/1000,0) -> 35.862524 | G28: =IF(G3<=year_end,G13*production!G48*production!G52*(1-moist_cu)/1000,0) -> 35.468897 | H28: =IF(H3<=year_end,H13*production!H48*production!H52*(1-moist_cu)/1000,0) -> 35.07959 | I28: =IF(I3<=year_end,I13*production!I48*production!I52*(1-moist_cu)/1000,0) -> 34.694556 | J28: =IF(J3<=year_end,J13*production!J48*production!J52*(1-moist_cu)/1000,0) -> 34.313749 | K28: =IF(K3<=year_end,K13*production!K48*production!K52*(1-moist_cu)/1000,0) -> 33.937121 | L28: =IF(L3<=year_end,L13*production!L48*production!L52*(1-moist_cu)/1000,0) -> 37.760206 | M28: =IF(M3<=year_end,M13*production!M48*production!M52*(1-moist_cu)/1000,0) -> 37.34575 | ... BI28: =IF(BI3<=year_end,BI13*production!BI48*production!BI52*(1-moist_cu)/1000,0) -> 0
B29: нийт орлогын дүн | D29: сая ам.доллар | E29: =SUM(F29:AX29) -> 65622.223 | F29: =SUM(F25:F28) -> 1404.5568 | G29: =SUM(G25:G28) -> 1393.385 | H29: =SUM(H25:H28) -> 1382.303 | I29: =SUM(I25:I28) -> 1371.31 | J29: =SUM(J25:J28) -> 1360.4053 | K29: =SUM(K25:K28) -> 1349.5882 | L29: =SUM(L25:L28) -> 1506.2153 | M29: =SUM(M25:M28) -> 1494.2409 | ... BI29: =SUM(BI25:BI28) -> 0
B31: боловсруулалтын төлбөр
C32: зэс | D32: сая ам.доллар | E32: =SUM(F32:AX32) -> 1180.3865 | F32: =IF(production!F24>0,IF(F2<=year_end,F14*production!F39*(1-moist_cu)/1000,0),0) -> 25.293632 | G32: =IF(production!G24>0,IF(G2<=year_end,G14*production!G39*(1-moist_cu)/1000,0),0) -> 25.091283 | H32: =IF(production!H24>0,IF(H2<=year_end,H14*production!H39*(1-moist_cu)/1000,0),0) -> 24.890553 | I32: =IF(production!I24>0,IF(I2<=year_end,I14*production!I39*(1-moist_cu)/1000,0),0) -> 24.691428 | J32: =IF(production!J24>0,IF(J2<=year_end,J14*production!J39*(1-moist_cu)/1000,0),0) -> 24.493897 | K32: =IF(production!K24>0,IF(K2<=year_end,K14*production!K39*(1-moist_cu)/1000,0),0) -> 24.297946 | L32: =IF(production!L24>0,IF(L2<=year_end,L14*production!L39*(1-moist_cu)/1000,0),0) -> 27.116507 | M32: =IF(production!M24>0,IF(M2<=year_end,M14*production!M39*(1-moist_cu)/1000,0),0) -> 26.899575 | ... BI32: =IF(production!BI24>0,IF(BI2<=year_end,BI14*production!BI39*(1-moist_cu)/1000,0),0) -> 0
B33: цэвэршүүлэлтийн төлбөр
C34: зэс | D34: сая ам.доллар | E34: =SUM(F34:AX34) -> 587.06071 | F34: =IF(production!F24>0,IF(F2<=year_end,production!F45/1000*assumptions!$E$22*F15/100,0),0) -> 13.940712 | G34: =IF(production!G24>0,IF(G2<=year_end,production!G45/1000*assumptions!$E$22*G15/100,0),0) -> 13.76004 | H34: =IF(production!H24>0,IF(H2<=year_end,production!H45/1000*assumptions!$E$22*H15/100,0),0) -> 13.58171 | I34: =IF(production!I24>0,IF(I2<=year_end,production!I45/1000*assumptions!$E$22*I15/100,0),0) -> 13.405691 | J34: =IF(production!J24>0,IF(J2<=year_end,production!J45/1000*assumptions!$E$22*J15/100,0),0) -> 13.231953 | K34: =IF(production!K24>0,IF(K2<=year_end,production!K45/1000*assumptions!$E$22*K15/100,0),0) -> 13.060467 | L34: =IF(production!L24>0,IF(L2<=year_end,production!L45/1000*assumptions!$E$22*L15/100,0),0) -> 14.502604 | M34: =IF(production!M24>0,IF(M2<=year_end,production!M45/1000*assumptions!$E$22*M15/100,0),0) -> 14.31465 | ... BI34: =IF(production!BI24>0,IF(BI2<=year_end,production!BI45/1000*assumptions!$E$22*BI15/100,0),0) -> 0
C35: алт | D35: сая ам.доллар | E35: =SUM(F35:AX35) -> 1.861008 | F35: =IF(production!F24>0,IF(F2<=year_end,production!F47*F16/1000,0),0) -> 0.042428304 | G35: =IF(production!G24>0,IF(G2<=year_end,production!G47*G16/1000,0),0) -> 0.041962611 | H35: =IF(production!H24>0,IF(H2<=year_end,production!H47*H16/1000,0),0) -> 0.041502029 | I35: =IF(production!I24>0,IF(I2<=year_end,production!I47*I16/1000,0),0) -> 0.041046503 | J35: =IF(production!J24>0,IF(J2<=year_end,production!J47*J16/1000,0),0) -> 0.040595976 | K35: =IF(production!K24>0,IF(K2<=year_end,production!K47*K16/1000,0),0) -> 0.040150395 | L35: =IF(production!L24>0,IF(L2<=year_end,production!L47*L16/1000,0),0) -> 0.044673417 | M35: =IF(production!M24>0,IF(M2<=year_end,production!M47*M16/1000,0),0) -> 0.044183082 | ... BI35: =IF(production!BI24>0,IF(BI2<=year_end,production!BI47*BI16/1000,0),0) -> 0
C36: мөнгө | D36: сая ам.доллар | E36: =SUM(F36:AX36) -> 27.1397 | F36: =IF(production!F24>0,IF(F2<=year_end,production!F48*F17/1000,0),0) -> 0.61874609 | G36: =IF(production!G24>0,IF(G2<=year_end,production!G48*G17/1000,0),0) -> 0.61195474 | H36: =IF(production!H24>0,IF(H2<=year_end,production!H48*H17/1000,0),0) -> 0.60523792 | I36: =IF(production!I24>0,IF(I2<=year_end,production!I48*I17/1000,0),0) -> 0.59859483 | J36: =IF(production!J24>0,IF(J2<=year_end,production!J48*J17/1000,0),0) -> 0.59202465 | K36: =IF(production!K24>0,IF(K2<=year_end,production!K48*K17/1000,0),0) -> 0.58552659 | L36: =IF(production!L24>0,IF(L2<=year_end,production!L48*L17/1000,0),0) -> 0.65148733 | M36: =IF(production!M24>0,IF(M2<=year_end,production!M48*M17/1000,0),0) -> 0.64433661 | ... BI36: =IF(production!BI24>0,IF(BI2<=year_end,production!BI48*BI17/1000,0),0) -> 0
B37: боловсруулалтын төлбөр
C38: молибден | D38: сая ам.доллар | E38: =SUM(F38:AT38) -> 481.68651 | F38: =IF(production!F24>0,IF(F2<=year_end,production!F46*(1-assumptions!$E$88)*assumptions!$E$22*F18/1000000,0),0) -> 10.981759 | G38: =IF(production!G24>0,IF(G2<=year_end,production!G46*(1-assumptions!$E$88)*assumptions!$E$22*G18/1000000,0),0) -> 10.861223 | H38: =IF(production!H24>0,IF(H2<=year_end,production!H46*(1-assumptions!$E$88)*assumptions!$E$22*H18/1000000,0),0) -> 10.74201 | I38: =IF(production!I24>0,IF(I2<=year_end,production!I46*(1-assumptions!$E$88)*assumptions!$E$22*I18/1000000,0),0) -> 10.624106 | J38: =IF(production!J24>0,IF(J2<=year_end,production!J46*(1-assumptions!$E$88)*assumptions!$E$22*J18/1000000,0),0) -> 10.507496 | K38: =IF(production!K24>0,IF(K2<=year_end,production!K46*(1-assumptions!$E$88)*assumptions!$E$22*K18/1000000,0),0) -> 10.392166 | L38: =IF(production!L24>0,IF(L2<=year_end,production!L46*(1-assumptions!$E$88)*assumptions!$E$22*L18/1000000,0),0) -> 11.562864 | M38: =IF(production!M24>0,IF(M2<=year_end,production!M46*(1-assumptions!$E$88)*assumptions!$E$22*M18/1000000,0),0) -> 11.43595 | ... BI38: =IF(production!BI24>0,IF(BI2<=year_end,production!BI46*(1-assumptions!$E$88)*assumptions!$E$22*BI18/1000000,0),0) -> 0
B39: торгууль
C40: Cu баяжмал дахь хүнцэл | D40: сая ам.доллар | E40: =SUM(F40:AX40) -> 77.90551 | F40: =IF(production!F24>0,IF(F2<=year_end,MAX(0,production!F39*(1-moist_cu)*(assumptions!$E$115-assumptions!$E$114)*assumptions!$E$116/1000000),0),0) -> 1.6693797 | G40: =IF(production!G24>0,IF(G2<=year_end,MAX(0,production!G39*(1-moist_cu)*(assumptions!$E$115-assumptions!$E$114)*assumptions!$E$116/1000000),0),0) -> 1.6560247 | H40: =IF(production!H24>0,IF(H2<=year_end,MAX(0,production!H39*(1-moist_cu)*(assumptions!$E$115-assumptions!$E$114)*assumptions!$E$116/1000000),0),0) -> 1.6427765 | I40: =IF(production!I24>0,IF(I2<=year_end,MAX(0,production!I39*(1-moist_cu)*(assumptions!$E$115-assumptions!$E$114)*assumptions!$E$116/1000000),0),0) -> 1.6296343 | J40: =IF(production!J24>0,IF(J2<=year_end,MAX(0,production!J39*(1-moist_cu)*(assumptions!$E$115-assumptions!$E$114)*assumptions!$E$116/1000000),0),0) -> 1.6165972 | K40: =IF(production!K24>0,IF(K2<=year_end,MAX(0,production!K39*(1-moist_cu)*(assumptions!$E$115-assumptions!$E$114)*assumptions!$E$116/1000000),0),0) -> 1.6036644 | L40: =IF(production!L24>0,IF(L2<=year_end,MAX(0,production!L39*(1-moist_cu)*(assumptions!$E$115-assumptions!$E$114)*assumptions!$E$116/1000000),0),0) -> 1.7896895 | M40: =IF(production!M24>0,IF(M2<=year_end,MAX(0,production!M39*(1-moist_cu)*(assumptions!$E$115-assumptions!$E$114)*assumptions!$E$116/1000000),0),0) -> 1.775372 | ... BI40: =IF(production!BI24>0,IF(BI2<=year_end,MAX(0,production!BI39*(1-moist_cu)*(assumptions!$E$115-assumptions!$E$114)*assumptions!$E$116/1000000),0),0) -> 0
C41: Cu баяжмал дахь фтор | D41: сая ам.доллар | E41: =SUM(F41:AX41) -> 33.050822 | F41: =IF(production!F24>0,IF(F2<=year_end,MAX(0,production!F39*(1-assumptions!$E$87)*(assumptions!$E$118-assumptions!$E$117)*assumptions!$E$119/1000000),0),0) -> 0.7082217 | G41: =IF(production!G24>0,IF(G2<=year_end,MAX(0,production!G39*(1-assumptions!$E$87)*(assumptions!$E$118-assumptions!$E$117)*assumptions!$E$119/1000000),0),0) -> 0.70255592 | H41: =IF(production!H24>0,IF(H2<=year_end,MAX(0,production!H39*(1-assumptions!$E$87)*(assumptions!$E$118-assumptions!$E$117)*assumptions!$E$119/1000000),0),0) -> 0.69693548 | I41: =IF(production!I24>0,IF(I2<=year_end,MAX(0,production!I39*(1-assumptions!$E$87)*(assumptions!$E$118-assumptions!$E$117)*assumptions!$E$119/1000000),0),0) -> 0.69135999 | J41: =IF(production!J24>0,IF(J2<=year_end,MAX(0,production!J39*(1-assumptions!$E$87)*(assumptions!$E$118-assumptions!$E$117)*assumptions!$E$119/1000000),0),0) -> 0.68582911 | K41: =IF(production!K24>0,IF(K2<=year_end,MAX(0,production!K39*(1-assumptions!$E$87)*(assumptions!$E$118-assumptions!$E$117)*assumptions!$E$119/1000000),0),0) -> 0.68034248 | L41: =IF(production!L24>0,IF(L2<=year_end,MAX(0,production!L39*(1-assumptions!$E$87)*(assumptions!$E$118-assumptions!$E$117)*assumptions!$E$119/1000000),0),0) -> 0.75926221 | M41: =IF(production!M24>0,IF(M2<=year_end,MAX(0,production!M39*(1-assumptions!$E$87)*(assumptions!$E$118-assumptions!$E$117)*assumptions!$E$119/1000000),0),0) -> 0.75318811 | ... BI41: =IF(production!BI24>0,IF(BI2<=year_end,MAX(0,production!BI39*(1-assumptions!$E$87)*(assumptions!$E$118-assumptions!$E$117)*assumptions!$E$119/1000000),0),0) -> 0
C42: Mo-ийн торгууль | D42: сая ам.доллар | E42: =SUM(F42:AX42) -> 2.1930339 | F42: =IF(production!F24>0,IF(F2<=year_end,assumptions!$E$120*production!F40*(1-moist_mo)/1000000,0),0) -> 0.046992906 | G42: =IF(production!G24>0,IF(G2<=year_end,assumptions!$E$120*production!G40*(1-moist_mo)/1000000,0),0) -> 0.046616962 | H42: =IF(production!H24>0,IF(H2<=year_end,assumptions!$E$120*production!H40*(1-moist_mo)/1000000,0),0) -> 0.046244027 | I42: =IF(production!I24>0,IF(I2<=year_end,assumptions!$E$120*production!I40*(1-moist_mo)/1000000,0),0) -> 0.045874075 | J42: =IF(production!J24>0,IF(J2<=year_end,assumptions!$E$120*production!J40*(1-moist_mo)/1000000,0),0) -> 0.045507082 | K42: =IF(production!K24>0,IF(K2<=year_end,assumptions!$E$120*production!K40*(1-moist_mo)/1000000,0),0) -> 0.045143025 | L42: =IF(production!L24>0,IF(L2<=year_end,assumptions!$E$120*production!L40*(1-moist_mo)/1000000,0),0) -> 0.050379616 | M42: =IF(production!M24>0,IF(M2<=year_end,assumptions!$E$120*production!M40*(1-moist_mo)/1000000,0),0) -> 0.049976579 | ... BI42: =IF(production!BI24>0,IF(BI2<=year_end,assumptions!$E$120*production!BI40*(1-moist_mo)/1000000,0),0) -> 0
B43: боловсруулалтын суутгал | D43: сая ам.доллар | E43: =SUM(F43:AX43) -> 2391.2838 | F43: =F32+F34+F35+F36+F38+F40+F41+F42 -> 53.301871 | G43: =G32+G34+G35+G36+G38+G40+G41+G42 -> 52.771661 | H43: =H32+H34+H35+H36+H38+H40+H41+H42 -> 52.246969 | I43: =I32+I34+I35+I36+I38+I40+I41+I42 -> 51.727735 | J43: =J32+J34+J35+J36+J38+J40+J41+J42 -> 51.2139 | K43: =K32+K34+K35+K36+K38+K40+K41+K42 -> 50.705405 | L43: =L32+L34+L35+L36+L38+L40+L41+L42 -> 56.477467 | M43: =M32+M34+M35+M36+M38+M40+M41+M42 -> 55.917232 | ... BI43: =BI32+BI34+BI35+BI36+BI38+BI40+BI41+BI42 -> 0
B45: баяжмалын тээвэр
C46: зэс | D46: сая ам.доллар | E46: =SUM(F46:AX46) -> 495.97513 | F46: =IF(production!F24>0,IF(F2<=year_end,assumptions!$E$109*production!$F$39/1000,0),0) -> 12.096954 | G46: =IF(production!G24>0,IF(G2<=year_end,assumptions!$E$109*production!$F$39/1000,0),0) -> 12.096954 | H46: =IF(production!H24>0,IF(H2<=year_end,assumptions!$E$109*production!$F$39/1000,0),0) -> 12.096954 | I46: =IF(production!I24>0,IF(I2<=year_end,assumptions!$E$109*production!$F$39/1000,0),0) -> 12.096954 | J46: =IF(production!J24>0,IF(J2<=year_end,assumptions!$E$109*production!$F$39/1000,0),0) -> 12.096954 | K46: =IF(production!K24>0,IF(K2<=year_end,assumptions!$E$109*production!$F$39/1000,0),0) -> 12.096954 | L46: =IF(production!L24>0,IF(L2<=year_end,assumptions!$E$109*production!$F$39/1000,0),0) -> 12.096954 | M46: =IF(production!M24>0,IF(M2<=year_end,assumptions!$E$109*production!$F$39/1000,0),0) -> 12.096954 | ... BI46: =IF(production!BI24>0,IF(BI2<=year_end,assumptions!$E$109*production!$F$39/1000,0),0) -> 0
...

Sheet opex
A1: ҮЙЛ АЖИЛЛАГААНЫ ЗАРДАЛ
E2: year_calendar--> | F2: =IF(year_start+(COLUMN()-COLUMN($F$2))<=year_end,year_start+(COLUMN()-COLUMN($F$2)),"") -> 2025 | G2: =IF(year_start+(COLUMN()-COLUMN($F$2))<=year_end,year_start+(COLUMN()-COLUMN($F$2)),"") -> 2026 | H2: =IF(year_start+(COLUMN()-COLUMN($F$2))<=year_end,year_start+(COLUMN()-COLUMN($F$2)),"") -> 2027 | I2: =IF(year_start+(COLUMN()-COLUMN($F$2))<=year_end,year_start+(COLUMN()-COLUMN($F$2)),"") -> 2028 | J2: =IF(year_start+(COLUMN()-COLUMN($F$2))<=year_end,year_start+(COLUMN()-COLUMN($F$2)),"") -> 2029 | K2: =IF(year_start+(COLUMN()-COLUMN($F$2))<=year_end,year_start+(COLUMN()-COLUMN($F$2)),"") -> 2030 | L2: =IF(year_start+(COLUMN()-COLUMN($F$2))<=year_end,year_start+(COLUMN()-COLUMN($F$2)),"") -> 2031 | M2: =IF(year_start+(COLUMN()-COLUMN($F$2))<=year_end,year_start+(COLUMN()-COLUMN($F$2)),"") -> 2032 | ... BW2: =IF(year_start+(COLUMN()-COLUMN($F$2))<=year_end,year_start+(COLUMN()-COLUMN($F$2)),"")
